BEGIN:VCALENDAR
VERSION:2.0
PRODID:-//Library Market//iCal Export//EN
BEGIN:VEVENT
SUMMARY:Death Cafe
UID:4020
DTSTAMP:20260425T135900Z
DTSTART:20260120T220000Z
DTEND:20260121T000000Z
LOCATION:1 Pennwood Ave, Edgewood, PA 15218, United States
ROOM: Fiction Room
DESCRIPTION:A Death Cafe is a group-directed discussion of death with no a
 genda, objectives or themes. The goal is to increase awareness of death wi
 th a view to helping people make the most of their (finite) lives.A Death 
 Cafe is not a a grief support or counselling session. Anyone who appears 
 to be under the influence of drugs or alcohol will not be admitted.
URL:https://ccmellor.librarycalendar.com/event/death-cafe-4020
END:VEVENT
END:VCALENDAR
