BEGIN:VCALENDAR
VERSION:2.0
PRODID:-//Library Market//iCal Export//EN
BEGIN:VEVENT
SUMMARY:Chicken Office Hours
UID:5091
DTSTAMP:20260420T091900Z
DTSTART:20260709T193000Z
DTEND:20260709T203000Z
LOCATION:1 Pennwood Ave, Edgewood, PA 15218, United States
ROOM: Children&#039;s Programming Room
DESCRIPTION:The chicks are coming! The chicks are coming! Stop by the chil
 dren’s room for a small group visit with one of our chicks. We’ll lear
 n about animal safety and development as we watch our chicks grow.Children
  under 8 must be accompanied by an adult.
URL:https://ccmellor.librarycalendar.com/event/chicken-office-hours-5091
END:VEVENT
END:VCALENDAR
