BEGIN:VCALENDAR
VERSION:2.0
PRODID:-//Library Market//iCal Export//EN
BEGIN:VEVENT
SUMMARY:Embryology and Hatching Chicks
UID:5097
DTSTAMP:20260420T091900Z
DTSTART:20260620T040000Z
DTEND:20260703T040000Z
LOCATION:1 Pennwood Ave, Edgewood, PA 15218, United States
ROOM: Embryology and Hatching Chicks
DESCRIPTION:Something big is hatching once again at your library! We’ll 
 be incubating chicken eggs starting June 10 in the children’s room at CC
 M Edgewood. Their projected hatch date is July 1, and then we’ll get to 
 see the chicks grow and change until they return to the farm July 15. Stop
  by and visit!
URL:https://ccmellor.librarycalendar.com/event/embryology-and-hatching-chi
 cks-5097
END:VEVENT
END:VCALENDAR
