BEGIN:VCALENDAR
VERSION:2.0
PRODID:-//Library Market//iCal Export//EN
BEGIN:VEVENT
SUMMARY:Time for Slime
UID:5138
DTSTAMP:20260420T091900Z
DTSTART:20260625T210000Z
DTEND:20260625T213000Z
LOCATION:1 Pennwood Ave, Edgewood, PA 15218, United States
ROOM: Children&#039;s Programming Room
DESCRIPTION:Follow a recipe by measuring ingredients, get creative with co
 lor and texture, and leave with your very own personalized, handcrafted sl
 ime! Please register each individual participating for a half-hour time s
 lot so that we can guarantee supplies.
URL:https://ccmellor.librarycalendar.com/event/time-slime-5138
END:VEVENT
END:VCALENDAR
